View In:
ArcGIS JavaScript
ArcGIS.com Map
Google Earth
ArcMap
ArcGIS Explorer
View Footprint In:
ArcGIS.com Map
Service Description:
Map Name: Layers
Legend
All Layers and Tables
Layers:
Description:
Copyright Text:
Spatial Reference:
4326
(4326)
Single Fused Map Cache: true
Tile Info:
- Height: 256
- Width: 256
- DPI: 96
-
Levels of Detail: 19
-
Level ID: 0
[ Start Tile, End Tile ]
- Resolution: 1.407826015716057
- Scale: 5.91657527594076E8
-
Level ID: 1
[ Start Tile, End Tile ]
- Resolution: 0.7039130078580285
- Scale: 2.95828763797038E8
-
Level ID: 2
[ Start Tile, End Tile ]
- Resolution: 0.35195650392901423
- Scale: 1.47914381898519E8
-
Level ID: 3
[ Start Tile, End Tile ]
- Resolution: 0.17597825196450592
- Scale: 7.3957190949259E7
-
Level ID: 4
[ Start Tile, End Tile ]
- Resolution: 0.08798912598225414
- Scale: 3.697859547463E7
-
Level ID: 5
[ Start Tile, End Tile ]
- Resolution: 0.04399456299112707
- Scale: 1.8489297737315E7
-
Level ID: 6
[ Start Tile, End Tile ]
- Resolution: 0.02199728149556235
- Scale: 9244648.868657
-
Level ID: 7
[ Start Tile, End Tile ]
- Resolution: 0.010998640747782364
- Scale: 4622324.434329
-
Level ID: 8
[ Start Tile, End Tile ]
- Resolution: 0.005499320373889992
- Scale: 2311162.217164
-
Level ID: 9
[ Start Tile, End Tile ]
- Resolution: 0.002749660186944996
- Scale: 1155581.108582
-
Level ID: 10
[ Start Tile, End Tile ]
- Resolution: 0.001374830093472498
- Scale: 577790.554291
-
Level ID: 11
[ Start Tile, End Tile ]
- Resolution: 6.874150467374387E-4
- Scale: 288895.277146
-
Level ID: 12
[ Start Tile, End Tile ]
- Resolution: 3.4370752336871936E-4
- Scale: 144447.638573
-
Level ID: 13
[ Start Tile, End Tile ]
- Resolution: 1.7185376168316996E-4
- Scale: 72223.819286
-
Level ID: 14
[ Start Tile, End Tile ]
- Resolution: 8.592688084158498E-5
- Scale: 36111.909643
-
Level ID: 15
[ Start Tile, End Tile ]
- Resolution: 4.296344042198222E-5
- Scale: 18055.954822
-
Level ID: 17
[ Start Tile, End Tile ]
- Resolution: 1.0740860104305824E-5
- Scale: 4513.988705
-
Level ID: 18
[ Start Tile, End Tile ]
- Resolution: 5.3704300533426425E-6
- Scale: 2256.994353
- Format: PNG
- Compression Quality: 0.0
- Origin: X: -180.0
Y: 90.0
- Spatial Reference: 4326
(4326)
Initial Extent:
XMin: 115.12609377988224
YMin: 39.360571337772505
XMax: 117.79889715825777
YMax: 41.1401231319575
Spatial Reference: 4326
Full Extent:
XMin: NaN
YMin: NaN
XMax: NaN
YMax: NaN
Spatial Reference: 4326
Units: esriDecimalDegrees
Supported Image Format Types: PNG32,PNG24,PNG,JPG,DIB,TIFF,EMF,PS,PDF,GIF,SVG,SVGZ,BMP
Document Info:
Title:
Author:
Comments:
Subject:
Category:
Keywords:
AntialiasingMode: None
TextAntialiasingMode: Force
Supports Dynamic Layers: false
MaxRecordCount: 1000
MaxImageHeight: 4096
MaxImageWidth: 4096
Supported Query Formats: JSON, AMF
Min Scale: 2311162.217164
Max Scale: 4513.988705
Child Resources:
Info
Supported Operations:
Export Map
Identify
Find
Return Updates
Generate KML