{
 "currentVersion": 10.2,
 "serviceDescription": "",
 "mapName": "Layers",
 "description": "",
 "copyrightText": "",
 "supportsDynamicLayers": false,
 "layers": [],
 "tables": [],
 "spatialReference": {
  "wkid": 4326,
  "latestWkid": 4326
 },
 "singleFusedMapCache": true,
 "tileInfo": {
  "rows": 256,
  "cols": 256,
  "dpi": 96,
  "format": "PNG",
  "compressionQuality": 0,
  "origin": {
   "x": -180,
   "y": 90
  },
  "spatialReference": {
   "wkid": 4326,
   "latestWkid": 4326
  },
  "lods": [
   {
    "level": 0,
    "resolution": 1.407826015716057,
    "scale": 5.91657527594076E8
   },
   {
    "level": 1,
    "resolution": 0.7039130078580285,
    "scale": 2.95828763797038E8
   },
   {
    "level": 2,
    "resolution": 0.35195650392901423,
    "scale": 1.47914381898519E8
   },
   {
    "level": 3,
    "resolution": 0.17597825196450592,
    "scale": 7.3957190949259E7
   },
   {
    "level": 4,
    "resolution": 0.08798912598225414,
    "scale": 3.697859547463E7
   },
   {
    "level": 5,
    "resolution": 0.04399456299112707,
    "scale": 1.8489297737315E7
   },
   {
    "level": 6,
    "resolution": 0.02199728149556235,
    "scale": 9244648.868657
   },
   {
    "level": 7,
    "resolution": 0.010998640747782364,
    "scale": 4622324.434329
   },
   {
    "level": 8,
    "resolution": 0.005499320373889992,
    "scale": 2311162.217164
   },
   {
    "level": 9,
    "resolution": 0.002749660186944996,
    "scale": 1155581.108582
   },
   {
    "level": 10,
    "resolution": 0.001374830093472498,
    "scale": 577790.554291
   },
   {
    "level": 11,
    "resolution": 6.874150467374387E-4,
    "scale": 288895.277146
   },
   {
    "level": 12,
    "resolution": 3.4370752336871936E-4,
    "scale": 144447.638573
   },
   {
    "level": 13,
    "resolution": 1.7185376168316996E-4,
    "scale": 72223.819286
   },
   {
    "level": 14,
    "resolution": 8.592688084158498E-5,
    "scale": 36111.909643
   },
   {
    "level": 15,
    "resolution": 4.296344042198222E-5,
    "scale": 18055.954822
   },
   {
    "level": 16,
    "resolution": 2.148172021099111E-5,
    "scale": 9027.977411
   },
   {
    "level": 17,
    "resolution": 1.0740860104305824E-5,
    "scale": 4513.988705
   },
   {
    "level": 18,
    "resolution": 5.3704300533426425E-6,
    "scale": 2256.994353
   }
  ]
 },
 "initialExtent": {
  "xmin": 115.12609377988224,
  "ymin": 39.360571337772505,
  "xmax": 117.79889715825777,
  "ymax": 41.1401231319575,
  "spatialReference": {
   "cs": "gcs",
   "wkid": 4326
  }
 },
 "fullExtent": {
  "xmin": "NaN",
  "ymin": "NaN",
  "xmax": "NaN",
  "ymax": "NaN",
  "spatialReference": {
   "cs": "gcs",
   "wkid": 4326
  }
 },
 "minScale": 2311162.217164,
 "maxScale": 4513.988705,
 "units": "esriDecimalDegrees",
 "supportedImageFormatTypes": "PNG32,PNG24,PNG,JPG,DIB,TIFF,EMF,PS,PDF,GIF,SVG,SVGZ,BMP",
 "documentInfo": {
  "Title": "",
  "Author": "",
  "Comments": "",
  "Subject": "",
  "Category": "",
  "AntialiasingMode": "None",
  "TextAntialiasingMode": "Force",
  "Keywords": ""
 },
 "capabilities": "Map,Query,Data",
 "supportedQueryFormats": "JSON, AMF",
 "exportTilesAllowed": false,
 "maxRecordCount": 1000,
 "maxImageHeight": 4096,
 "maxImageWidth": 4096,
 "supportedExtensions": "KmlServer, WMSServer"
}
